BEGIN:VCALENDAR
VERSION:2.0
PRODID:-//Magic String Quartet • Orlando, Florida Based Musicians - ECPv6.15.20//NONSGML v1.0//EN
CALSCALE:GREGORIAN
METHOD:PUBLISH
X-WR-CALNAME:Magic String Quartet • Orlando, Florida Based Musicians
X-ORIGINAL-URL:https://www.magicquartet.com
X-WR-CALDESC:Events for Magic String Quartet • Orlando, Florida Based Musicians
REFRESH-INTERVAL;VALUE=DURATION:PT1H
X-Robots-Tag:noindex
X-PUBLISHED-TTL:PT1H
BEGIN:VTIMEZONE
TZID:UTC
BEGIN:STANDARD
TZOFFSETFROM:+0000
TZOFFSETTO:+0000
TZNAME:UTC
DTSTART:20250101T000000
END:STANDARD
END:VTIMEZONE
BEGIN:VEVENT
DTSTART;TZID=UTC:20260604T190000
DTEND;TZID=UTC:20260604T200000
DTSTAMP:20260420T051626
CREATED:20260407T145938Z
LAST-MODIFIED:20260407T145938Z
UID:3471-1780599600-1780603200@www.magicquartet.com
SUMMARY:Candlelight: Tribute to Juan Gabriel on Strings
DESCRIPTION:⭐   Candlelight  concerts bring the magic of a live\, multi-sensory musical experience to awe-inspiring locations like never seen before in Orlando. Get your tickets now to discover the music of Juan Gabriel on Strings at Azalea Lodge at Mead Garden under the gentle glow of candlelight.   \n  General Info\n📍 Venue: Azalea Lodge at Mead Garden\n📅 Dates and times: select your dates/times directly in the ticket selector\n⏳ Duration: 60 minutes. Doors open 45 minutes before the show. No entry once it starts.\n👤 Age requirement: 8 years old or older. Anyone under the age of 16 must be accompanied by an adult\n♿ Accessibility: this venue is ADA compliant\n❓ View the FAQs for this event  here\n🪑 Seating is assigned on a first come first served basis in each zone\n🕯️ If you would like to book a private concert or buy regular tickets for a large group (+30 people)\, click  here\n🎻 Check out all the  Candlelight concerts  in Orlando\n🎁 To treat your friends and family to a Candlelight gift card\, click  here   \n  Tentative Program   \n	 Buenos Días Señor Sol\n	 Así Fue\n	 Abrázame Muy Fuerte\n	 La Diferencia\n	 Querida\n	 No Tengo Dinero\n	 Por Qué Me Haces Llorar\n	 Siempre en Mi Mente\n	 Amor Eterno\n	 Pero Qué Necesidad\n	 El Noa Noa\n	 Caray  \n  Performers   \n	 Listeso String Quartet  \n  Seating Map   \nProgram\n\nBuenos Días Señor Sol\nAsí Fue\nAbrázame Muy Fuerte\nLa Diferencia\nQuerida\nNo Tengo Dinero\nPor Qué Me Haces Llorar\nSiempre en Mi Mente\nAmor Eterno\nPero Qué Necesidad\nEl Noa Noa\nCaray\n\nEvent Details\n\nVenue: Azalea Lodge at Mead Garden\nCity: Orlando\nShowtimes: 6:30p\nPerformers: Listeso String Quartet\nTickets: From $62.84\n\nBuy Tickets  |  Get a Quote
URL:https://www.magicquartet.com/concert/candlelight-tribute-to-juan-gabriel-on-strings-2/
LOCATION:Azalea Lodge at Mead Garden\, Orlando\, US
END:VEVENT
END:VCALENDAR