BEGIN:VCALENDAR
VERSION:2.0
PRODID:-//Magic String Quartet • Orlando, Florida Based Musicians - ECPv6.15.20//NONSGML v1.0//EN
CALSCALE:GREGORIAN
METHOD:PUBLISH
X-WR-CALNAME:Magic String Quartet • Orlando, Florida Based Musicians
X-ORIGINAL-URL:https://www.magicquartet.com
X-WR-CALDESC:Events for Magic String Quartet • Orlando, Florida Based Musicians
REFRESH-INTERVAL;VALUE=DURATION:PT1H
X-Robots-Tag:noindex
X-PUBLISHED-TTL:PT1H
BEGIN:VTIMEZONE
TZID:UTC
BEGIN:STANDARD
TZOFFSETFROM:+0000
TZOFFSETTO:+0000
TZNAME:UTC
DTSTART:20250101T000000
END:STANDARD
END:VTIMEZONE
BEGIN:VEVENT
DTSTART;TZID=UTC:20260419T190000
DTEND;TZID=UTC:20260419T200000
DTSTAMP:20260420T064040
CREATED:20260407T150317Z
LAST-MODIFIED:20260407T150317Z
UID:3430-1776625200-1776628800@www.magicquartet.com
SUMMARY:Candlelight: The Best of Hans Zimmer
DESCRIPTION:⭐   Candlelight    concerts bring the magic of a live\, multi-sensory musical experience to awe-inspiring locations like never seen before in Orlando. Get your tickets now to discover the music of Hans Zimmer at The Abbey – Orlando under the gentle glow of candlelight.    General Info   📍 Venue: The Abbey – Orlando  📅 Dates and times: select your dates/times directly in the ticket selector  ⏳ Duration: 60 minutes. Doors open 45 minutes before the show. No entry once it starts.  👤 Age requirement: 8 years old or older. Anyone under the age of 16 must be accompanied by an adult  ♿ Accessibility: this venue is ADA compliant  ❓ View the FAQs for this event  here   🪑 Seating is assigned on a first come first served basis in each zone  🕯️ If you would like to book a private concert or buy regular tickets for a large group (+30 people)\, click  here   🎻 Check out all the  Candlelight concerts  in Orlando  🎁 To treat your friends and family to a Candlelight gift card\, click  here    Tentative Program    Time –  Inception   This Land –  The Lion King   Zooster’s Breakout –  Madagascar   Supermarine –  Dunkirk   Honor –  The Pacific   A Dark Knight –  The Dark Knight    Wonder Woman  Suite   Gladiator  Suite  Cornfield Chase –  Interstellar    Dune  Suite  Discombobulate –  Sherlock Holmes    Pirates of the Caribbean  Suite    Performers  Listeso String Quartet   April 5  May 16   Fernwood String Quartet   April 19    Seating Map
URL:https://www.magicquartet.com/concert/candlelight-the-best-of-hans-zimmer/
LOCATION:The Abbey – Orlando\, Orlando\, US
END:VEVENT
BEGIN:VEVENT
DTSTART;TZID=UTC:20260419T190000
DTEND;TZID=UTC:20260419T200000
DTSTAMP:20260420T064040
CREATED:20260407T150315Z
LAST-MODIFIED:20260407T150315Z
UID:3431-1776625200-1776628800@www.magicquartet.com
SUMMARY:Candlelight: Coldplay & Imagine Dragons
DESCRIPTION:⭐   Candlelight    concerts bring the magic of a live\, multi-sensory musical experience to awe-inspiring locations like never seen before in Orlando. Get your tickets now to discover the music of Coldplay & Imagine Dragons at The Abbey – Orlando under the gentle glow of candlelight.    General Info   📍 Venue: The Abbey – Orlando  📅 Dates and times: select your dates/times directly in the ticket selector  ⏳ Duration: 60 minutes. Doors open 45 minutes before the show. No entry once it starts.  👤 Age requirement: 8 years old or older. Anyone under the age of 16 must be accompanied by an adult  ♿ Accessibility: This venue is ADA-compliant  ❓ View the FAQs for this event  here   🪑 Seating is assigned on a first come first served basis in each zone  🕯️ If you would like to book a private concert or buy regular tickets for a large group (+30 people)\, click  here   🎻 Check out all the  Candlelight concerts  in Orlando  🎁 To treat your friends and family to a Candlelight gift card\, click  here      Tentative Program   Coldplay – Clocks  Coldplay – Something Just Like This  Imagine Dragons – Radioactive  Coldplay – Adventure of a Lifetime  Coldplay – Fix You  Imagine Dragons – Eyes Closed  Imagine Dragons – Nice to Meet You  Coldplay – The Scientist  Coldplay – feelslikeimfallinginlove  Imagine Dragons – Follow You  Imagine Dragons – Bad Liar  Coldplay – Viva la Vida  Imagine Dragons – Believer  Coldplay – Sky Full of Stars    Performers  Fernwood String Quartet   March 29  April 19  September 4   Listeso String Quartet   June 14  July 18  September 11           Seating Map
URL:https://www.magicquartet.com/concert/candlelight-coldplay-imagine-dragons/
LOCATION:The Abbey – Orlando\, Orlando\, US
END:VEVENT
BEGIN:VEVENT
DTSTART;TZID=UTC:20260416T190000
DTEND;TZID=UTC:20260416T200000
DTSTAMP:20260420T064040
CREATED:20260407T150406Z
LAST-MODIFIED:20260407T150406Z
UID:3429-1776366000-1776369600@www.magicquartet.com
SUMMARY:Candlelight: Tribute to Adele
DESCRIPTION:⭐   Candlelight    concerts bring the magic of a live\, multi-sensory musical experience to awe-inspiring locations like never seen before in Orlando. Get your tickets now to discover the music of Adele at Azalea Lodge under the gentle glow of candlelight.\n 🌸  To celebrate Candlelight Spring\, a limited number of sessions feature a special floral setting. All other sessions follow the standard Candlelight setup. See the dates below.\n  General Info  📍 Venue: The Azalea Lodge at Mead Gardens 📅 Dates and times: select your dates/times directly in the ticket selector ⏳ Duration: 60 minutes. Doors open 45 minutes before the show. No entry once it starts. 👤 Age requirement: 8 years old or older. Anyone under the age of 16 must be accompanied by an adult ♿ Accessibility: this venue is ADA compliant ❓ View the FAQs for this event  here  🪑 Seating is assigned on a first come first served basis in each zone 🕯️ If you would like to book a private concert or buy regular tickets for a large group (+30 people)\, click  here  🎻 Check out all the  Candlelight concerts  in Orlando 🎁 To treat your friends and family to a Candlelight gift card\, click  here    Tentative Program   \n Hello\n Rumour Has It\n Make You Feel My Love\n Water Under the Bridge\n Oh My God\n Someone Like You\n Send My Love (to Your New Lover)\n Chasing Pavements\n Skyfall\n When We Were Young\n Set Fire to the Rain\n Easy On Me\n Rolling in the Deep    \n  Sessions with Candlelight Spring flower setting:   \n April 16  \n   Performers :  \n Listeso String Quartet    \n  Seating Map
URL:https://www.magicquartet.com/concert/candlelight-tribute-to-adele/
LOCATION:Azalea Lodge at Mead Garden\, Orlando\, US
END:VEVENT
BEGIN:VEVENT
DTSTART;TZID=UTC:20260416T190000
DTEND;TZID=UTC:20260416T200000
DTSTAMP:20260420T064040
CREATED:20260407T150402Z
LAST-MODIFIED:20260407T150402Z
UID:3428-1776366000-1776369600@www.magicquartet.com
SUMMARY:Candlelight: Queen vs. ABBA
DESCRIPTION:⭐   Candlelight    concerts bring the magic of a live\, multi-sensory musical experience to awe-inspiring locations like never seen before in Orlando. Get your tickets now to discover the music of Queen vs. ABBA at The Azalea Lodge at Mead Gardens under the gentle glow of candlelight.  🌸  To celebrate Candlelight Spring\, a limited number of sessions feature a special floral setting. All other sessions follow the standard Candlelight setup. See the dates below.   General Info  📍 Venue: The Azalea Lodge at Mead Gardens 📅 Dates and times: select your dates/times directly in the ticket selector ⏳ Duration: 60 minutes. Doors open 45 minutes before the show. No entry once it starts. 👤 Age requirement: 8 years old or older. Anyone under the age of 16 must be accompanied by an adult ♿ Accessibility: this venue is ADA compliant ❓ View the FAQs for this event  here  🪑 Seating is assigned on a first come first served basis in each zone 🕯️ If you would like to book a private concert or buy regular tickets for a large group (+30 people)\, click  here  🎻 Check out all the  Candlelight concerts  in Orlando 🎁 To treat your friends and family to a Candlelight gift card\, click  here    Tentative Program    Dancing Queen  SOS  Money\, Money\, Money  Bohemian Rhapsody  I Want to Break Free  Waterloo  Super Trouper  Mamma Mia  Don’t Stop Me Now  We Will Rock You  We Are the Champions   Sessions with Candlelight Spring flower setting:    April 16    Performers  Listeso String Quartet   April 2  April 16  June 4   Fernwood String Quartet   April 30  May 15  June 25     Seating Map
URL:https://www.magicquartet.com/concert/candlelight-queen-vs-abba/
LOCATION:Azalea Lodge at Mead Garden\, Orlando\, US
END:VEVENT
BEGIN:VEVENT
DTSTART;TZID=UTC:20260409T190000
DTEND;TZID=UTC:20260409T200000
DTSTAMP:20260420T064040
CREATED:20260407T150523Z
LAST-MODIFIED:20260407T150523Z
UID:3427-1775761200-1775764800@www.magicquartet.com
SUMMARY:Candlelight: Tribute to The Beatles
DESCRIPTION:⭐   Candlelight    concerts bring the magic of a live\, multi-sensory musical experience to awe-inspiring locations like never seen before in Orlando. Get your tickets now to discover the music of The Beatles at Orlando Museum of Art under the gentle glow of candlelight.    General Info   📍 Venue: Orlando Museum of Art  📅 Dates and times: select your dates/times directly in the ticket selector  ⏳ Duration: 60 minutes. Doors open 45 minutes before the show. No entry once it starts.  👤 Age requirement: 8 years old or older. Anyone under the age of 16 must be accompanied by an adult  ♿ Accessibility: ADA compliant  ❓ View the FAQs for this event  here   🪑 Seating is assigned on a first come first served basis in each zone  🕯️ If you would like to book a private concert or buy regular tickets for a large group (+30 people)\, click  here   🎻 Check out all the  Candlelight concerts  in Orlando  🎁 To treat your friends and family to a Candlelight gift card\, click  here    Tentative Program    I Want To Hold Your Hand  Penny Lane  Strawberry Fields  Come Together  Here Comes the Sun  With A Little Help From My Friends  Help!  Eleanor Rigby  While My Guitar Gently Weeps  Helter Skelter  Blackbird  A Day in the Life  Yesterday  Let It Be    Performers  	Listeso String Quartet   April 9  April 26   	Fernwood String Quartet   July 25  August 29    Seating Map
URL:https://www.magicquartet.com/concert/candlelight-tribute-to-the-beatles/
LOCATION:Orlando Museum of Art\, Orlando\, US
END:VEVENT
BEGIN:VEVENT
DTSTART;TZID=UTC:20260409T190000
DTEND;TZID=UTC:20260409T200000
DTSTAMP:20260420T064040
CREATED:20260407T150501Z
LAST-MODIFIED:20260407T150501Z
UID:3426-1775761200-1775764800@www.magicquartet.com
SUMMARY:Candlelight: Mozart vs Beethoven
DESCRIPTION:⭐   Candlelight    concerts bring the magic of a live\, multi-sensory musical experience to awe-inspiring locations like never seen before in Orlando. Get your tickets now to discover the music of Mozart vs Beethoven at Orlando Museum of Art under the gentle glow of candlelight.    General Info   📍 Venue: Orlando Museum of Art  📅 Dates and times: select your dates/times directly in the ticket selector  ⏳ Duration: 60 minutes. Doors open 45 minutes before the show. No entry once it starts.  👤 Age requirement: 8 years old or older. Anyone under the age of 16 must be accompanied by an adult  ♿ Accessibility: This venue is ADA compliant  ❓ View the FAQs for this event  here   🪑 Seating is assigned on a first come first served basis in each zone  🕯️ If you would like to book a private concert or buy regular tickets for a large group (+30 people)\, click  here   🎻 Check out all the  Candlelight concerts  in Orlando  🎁 To treat your friends and family to a Candlelight gift card\, click  here    Tentative Program    Wolfgang Amadeus Mozart    Sonata No. 11 en A Mayor\, K. 331: III. Alla Turca (Marcha Turca)  Las Bodas de Fígaro\, K. 492: Obertura  Sinfonía No. 25 en G Mayor\, K. 183: I. Allegro Con Brio  Eine kleine Nachtmusik K. 525: I. Allegro  Sinfonía No. 40 en G menor\, K. 550: I. Allegro Molto   Ludwig van Beethoven    Sonata No. 14 en C# menor\, Op. 27\, No. 2 Quasi una fantasia: I. Adagio Sostenuto (Claro de Luna)  Sonate Pathétique No. 8 en C Menor\, Op. 13: II. Adagio  Bagatelle No. 25 en A menor: Für Elise  Las Ruinas de Atenas\, Op. 113: IV. Marcha Turca  Cuarteto de Cuerdas No. 4 en C menor\, Op. 18 No. 4: III. Allegretto  Sinfonía No. 7 en A Mayor\, Op. 92: II. Allegretto  Sinfonía No. 9 en D menor\, Op. 125: IV. Presto/Allegro Assai – Oda a la Alegría (Ode To Joy)  Sinfonía No. 5 en C menor\, Op. 67: I. Allegro Con Brio    Performers  	Listeso String Quartet   April 9   	Fernwood String Quartet   July 25    Seating Map
URL:https://www.magicquartet.com/concert/candlelight-mozart-vs-beethoven/
LOCATION:Orlando Museum of Art\, Orlando\, US
END:VEVENT
BEGIN:VEVENT
DTSTART;TZID=UTC:20260403T190000
DTEND;TZID=UTC:20260403T200000
DTSTAMP:20260420T064040
CREATED:20260407T150609Z
LAST-MODIFIED:20260407T150609Z
UID:3425-1775242800-1775246400@www.magicquartet.com
SUMMARY:Candlelight: Tribute to Bad Bunny
DESCRIPTION:⭐   Candlelight    concerts bring the magic of a live\, multi-sensory musical experience to awe-inspiring locations like never seen before in Orlando. Get your tickets now to discover the music of Bad Bunny at The Azalea Lodge at Mead Gardens under the gentle glow of candlelight.  🌸  To celebrate Candlelight Spring\, a limited number of sessions feature a special floral setting. All other sessions follow the standard Candlelight setup. See the dates below.    General Info  📍 Venue: The Azalea Lodge at Mead Gardens 📅 Dates and times: select your dates/times directly in the ticket selector ⏳ Duration: 60 minutes. Doors open 45 minutes before the show. No entry once it starts. 👤 Age requirement: 8 years old or older. Anyone under the age of 16 must be accompanied by an adult ♿ Accessibility: ADA compliant ❓ View the FAQs for this event  here  🪑 Seating is assigned on a first come first served basis in each zone 🕯️ If you would like to book a private concert or buy regular tickets for a large group (+30 people)\, click  here  🎻 Check out all the  Candlelight concerts  in Orlando 🎁 To treat your friends and family to a Candlelight gift card\, click  here    Tentative Program    NUEVAYol  Si Estuviésemos Juntos  La Canción  La Noche de Anoche  Yonaguni  Moscow Mule  Callaíta  Ojitos Lindos  Me Porto Bonito  Tití Me Preguntó  un 100xto  BAILE INoLVIDABLE  DtMF – LA MuDANZA medley   Sessions with Candlelight Spring flower setting:    April 3   Performers  Listeso String Quartet   April 23\, 2026  April 30\, 2026  May 7\, 2026  June 5\, 2026  Fernwood String Quartet   April 3\, 2026  April 10\, 2026  May 15\, 2026  July 10\, 2026    Seating Map
URL:https://www.magicquartet.com/concert/candlelight-tribute-to-bad-bunny/
LOCATION:Azalea Lodge at Mead Garden\, Orlando\, US
END:VEVENT
END:VCALENDAR