BEGIN:VCALENDAR
VERSION:2.0
PRODID:-//Magic String Quartet • Orlando, Florida Based Musicians - ECPv6.15.20//NONSGML v1.0//EN
CALSCALE:GREGORIAN
METHOD:PUBLISH
X-WR-CALNAME:Magic String Quartet • Orlando, Florida Based Musicians
X-ORIGINAL-URL:https://www.magicquartet.com
X-WR-CALDESC:Events for Magic String Quartet • Orlando, Florida Based Musicians
REFRESH-INTERVAL;VALUE=DURATION:PT1H
X-Robots-Tag:noindex
X-PUBLISHED-TTL:PT1H
BEGIN:VTIMEZONE
TZID:UTC
BEGIN:STANDARD
TZOFFSETFROM:+0000
TZOFFSETTO:+0000
TZNAME:UTC
DTSTART:20250101T000000
END:STANDARD
END:VTIMEZONE
BEGIN:VEVENT
DTSTART;TZID=UTC:20260507T190000
DTEND;TZID=UTC:20260507T200000
DTSTAMP:20260420T070917
CREATED:20260407T150153Z
LAST-MODIFIED:20260407T150153Z
UID:3457-1778180400-1778184000@www.magicquartet.com
SUMMARY:Candlelight: Tribute to Adele
DESCRIPTION:⭐   Candlelight    concerts bring the magic of a live\, multi-sensory musical experience to awe-inspiring locations like never seen before in Orlando. Get your tickets now to discover the music of Adele at Azalea Lodge under the gentle glow of candlelight.\n 🌸  To celebrate Candlelight Spring\, a limited number of sessions feature a special floral setting. All other sessions follow the standard Candlelight setup. See the dates below.\n  General Info  📍 Venue: The Azalea Lodge at Mead Gardens 📅 Dates and times: select your dates/times directly in the ticket selector ⏳ Duration: 60 minutes. Doors open 45 minutes before the show. No entry once it starts. 👤 Age requirement: 8 years old or older. Anyone under the age of 16 must be accompanied by an adult ♿ Accessibility: this venue is ADA compliant ❓ View the FAQs for this event  here  🪑 Seating is assigned on a first come first served basis in each zone 🕯️ If you would like to book a private concert or buy regular tickets for a large group (+30 people)\, click  here  🎻 Check out all the  Candlelight concerts  in Orlando 🎁 To treat your friends and family to a Candlelight gift card\, click  here    Tentative Program   \n Hello\n Rumour Has It\n Make You Feel My Love\n Water Under the Bridge\n Oh My God\n Someone Like You\n Send My Love (to Your New Lover)\n Chasing Pavements\n Skyfall\n When We Were Young\n Set Fire to the Rain\n Easy On Me\n Rolling in the Deep    \n  Sessions with Candlelight Spring flower setting:   \n April 16  \n   Performers :  \n Listeso String Quartet    \n  Seating Map\n      \nEvent Details\n\nVenue: Azalea Lodge at Mead Garden\nCity: Orlando\nShowtimes: 6:30p\nPerformers: :\, Listeso String Quartet\n\nBuy Tickets  |  Get a Quote
URL:https://www.magicquartet.com/concert/candlelight-tribute-to-adele-2/
LOCATION:Azalea Lodge at Mead Garden\, Orlando\, US
END:VEVENT
BEGIN:VEVENT
DTSTART;TZID=UTC:20260508T190000
DTEND;TZID=UTC:20260508T200000
DTSTAMP:20260420T070917
CREATED:20260407T150144Z
LAST-MODIFIED:20260407T150144Z
UID:3459-1778266800-1778270400@www.magicquartet.com
SUMMARY:Candlelight: 90s Hip-Hop on Strings
DESCRIPTION:⭐   Candlelight    concerts bring the magic of a live\, multi-sensory musical experience to awe-inspiring locations like never seen before in Orlando. Get your tickets now to discover the music of 90s Hip-Hop on Strings at The Azalea Lodge at Mead Gardens under the gentle glow of candlelight.    General Info   📍 Venue: The Azalea Lodge at Mead Gardens  📅 Dates and times: select your dates/times directly in the ticket selector  ⏳ Duration: 60 minutes. Doors open 45 minutes before the show and  close 5 minutes prior to the start. Late arrivals will not be permitted   👤 Age requirement: 8 years old or older. Anyone under the age of 16 must be accompanied by an adult  ♿ Accessibility: this venue is ADA compliant  ❓ View the FAQs for this event  here   🪑 Seating is assigned on a first come first served basis in each zone  🕯️ If you would like to book a private concert or buy regular tickets for a large group (+30 people)\, click  here   🎻 Check out all the  Candlelight concerts  in Orlando  🎁 To treat your friends and family to a Candlelight gift card\, click  here    Tentative Program    2Pac Medley (Dear Mama\, California Love\, and more)  A Tribe Called Quest Medley (Can I Kick It\, Check the Rhime\, Scenario\, and more)  Gangsta’s Paradise – Coolio  Dr. Dre Medley (Still D.R.E.\, Forgot About Dre\, Nuthin’ but a ‘G’ Thang\, and more)  Fugees and Lauryn Hill Medley (Ready or Not\, Doo-Wop\, Fu-Gee-La\, and Killing Me Softly)  Gin and Juice – Snoop Dogg  Jay-Z Medley (Can I Get A…\, Big Pimpin\, Money Ain’t a Thing\, and more)  Missy ‘Misdemeanor’ Elliott Medley (The Rain (Supa Dupa Fly)\, Sock It to Me\, and more)  Nas Medley (It Ain’t Hard to Tell\, N.Y. State of Mind\, The World Is Yours\, and more)  The Notorious B.I.G. Medley (Juicy\, Big Poppa\, Hypnotize\, and more)  Outkast Medley (Rosa Parks\, Elevators (Me & You)\, SpottieOttieDopaliscious\, and more)  Wu Tang Clan Medley (C.R.E.A.M.\, Wu-Tang Clan Ain’t Nuthing Ta F’ Wit\, Protect Ya Neck\, and more)    Performers    Listeso String Quartet    Seating Map      \nEvent Details\n\nVenue: Azalea Lodge at Mead Garden\nCity: Orlando\nShowtimes: 8:45p\nPerformers: Listeso String Quartet\n\nBuy Tickets  |  Get a Quote
URL:https://www.magicquartet.com/concert/candlelight-90s-hip-hop-on-strings/
LOCATION:Azalea Lodge at Mead Garden\, Orlando\, US
END:VEVENT
BEGIN:VEVENT
DTSTART;TZID=UTC:20260514T190000
DTEND;TZID=UTC:20260514T200000
DTSTAMP:20260420T070917
CREATED:20260407T150119Z
LAST-MODIFIED:20260407T150119Z
UID:3465-1778785200-1778788800@www.magicquartet.com
SUMMARY:Candlelight: The Best of Hans Zimmer
DESCRIPTION:⭐   Candlelight    concerts bring the magic of a live\, multi-sensory musical experience to awe-inspiring locations like never seen before in Orlando. Get your tickets now to discover the music of Hans Zimmer at The Azalea Lodge in Mead Gardens under the gentle glow of candlelight.   General Info   📍 Venue: Azalea Lodge at Mead Garden  📅 Dates and times: select your dates/times directly in the ticket selector  ⏳ Duration: 65 minutes. Doors open 45 minutes before the show and  close 5 minutes prior to the start. Late arrivals will not be permitted   👤 Age requirement: 8 years old or older. Anyone under the age of 16 must be accompanied by an adult  ♿ Accessibility: this venue is ADA compliant  ❓ View the FAQs for this event  here   🪑 Seating is assigned on a first come first served basis in each zone  🎻 Check out all the  Candlelight concerts  in Orlando  🕯️ If you would like to book a private concert or buy regular tickets for a large group (+30 people)\, click  here   🎁 To treat your friends and family to a Candlelight gift card\, click  here   Tentative Program    Time from  Inception   This Land from  The Lion King   Zooster’s Breakout from  Madagascar   Supermarine from  Dunkirk   Honor from  The Pacific   A Dark Knight from  The Dark Knight    Wonder Woman  Suite   Gladiator  Suite  Cornfield Chase from  Interstellar    Dune  Suite  Discombobulate from  Sherlock Holmes    Pirates of the Caribbean  Suite   Performers    Fernwood String Quartet   Seating Map      \nEvent Details\n\nVenue: Azalea Lodge at Mead Garden\nCity: Orlando\nShowtimes: 6:30p\nPerformers: Listeso String Quartet\n\nBuy Tickets  |  Get a Quote
URL:https://www.magicquartet.com/concert/candlelight-the-best-of-hans-zimmer-2/
LOCATION:Azalea Lodge at Mead Garden\, Orlando\, US
END:VEVENT
END:VCALENDAR