BEGIN:VCALENDAR
VERSION:2.0
PRODID:-//Magic String Quartet • Orlando, Florida Based Musicians - ECPv6.15.20//NONSGML v1.0//EN
CALSCALE:GREGORIAN
METHOD:PUBLISH
X-ORIGINAL-URL:https://www.magicquartet.com
X-WR-CALDESC:Events for Magic String Quartet • Orlando, Florida Based Musicians
REFRESH-INTERVAL;VALUE=DURATION:PT1H
X-Robots-Tag:noindex
X-PUBLISHED-TTL:PT1H
BEGIN:VTIMEZONE
TZID:UTC
BEGIN:STANDARD
TZOFFSETFROM:+0000
TZOFFSETTO:+0000
TZNAME:UTC
DTSTART:20250101T000000
END:STANDARD
END:VTIMEZONE
BEGIN:VEVENT
DTSTART;TZID=UTC:20260423T190000
DTEND;TZID=UTC:20260423T200000
DTSTAMP:20260420T051917
CREATED:20260407T150257Z
LAST-MODIFIED:20260407T150257Z
UID:3433-1776970800-1776974400@www.magicquartet.com
SUMMARY:Candlelight: Tribute to Bad Bunny
DESCRIPTION:⭐   Candlelight    concerts bring the magic of a live\, multi-sensory musical experience to awe-inspiring locations like never seen before in Orlando. Get your tickets now to discover the music of Bad Bunny at The Azalea Lodge at Mead Gardens under the gentle glow of candlelight.  🌸  To celebrate Candlelight Spring\, a limited number of sessions feature a special floral setting. All other sessions follow the standard Candlelight setup. See the dates below.    General Info  📍 Venue: The Azalea Lodge at Mead Gardens 📅 Dates and times: select your dates/times directly in the ticket selector ⏳ Duration: 60 minutes. Doors open 45 minutes before the show. No entry once it starts. 👤 Age requirement: 8 years old or older. Anyone under the age of 16 must be accompanied by an adult ♿ Accessibility: ADA compliant ❓ View the FAQs for this event  here  🪑 Seating is assigned on a first come first served basis in each zone 🕯️ If you would like to book a private concert or buy regular tickets for a large group (+30 people)\, click  here  🎻 Check out all the  Candlelight concerts  in Orlando 🎁 To treat your friends and family to a Candlelight gift card\, click  here    Tentative Program    NUEVAYol  Si Estuviésemos Juntos  La Canción  La Noche de Anoche  Yonaguni  Moscow Mule  Callaíta  Ojitos Lindos  Me Porto Bonito  Tití Me Preguntó  un 100xto  BAILE INoLVIDABLE  DtMF – LA MuDANZA medley   Sessions with Candlelight Spring flower setting:    April 3   Performers  Listeso String Quartet   April 23\, 2026  April 30\, 2026  May 7\, 2026  June 5\, 2026  Fernwood String Quartet   April 3\, 2026  April 10\, 2026  May 15\, 2026  July 10\, 2026    Seating Map
URL:https://www.magicquartet.com/concert/candlelight-tribute-to-bad-bunny-2/
LOCATION:Azalea Lodge at Mead Garden\, Orlando\, US
END:VEVENT
BEGIN:VEVENT
DTSTART;TZID=UTC:20260423T190000
DTEND;TZID=UTC:20260423T200000
DTSTAMP:20260420T051917
CREATED:20260407T150303Z
LAST-MODIFIED:20260407T150303Z
UID:3432-1776970800-1776974400@www.magicquartet.com
SUMMARY:Candlelight: Best of Bridgerton on Strings
DESCRIPTION:🌹  After captivating millions of Bridgerton fans worldwide\,    Candlelight: Best of Bridgerton on Strings    is making its grand return to Orlando! Dearest reader\, Lady Whistledown extends an exclusive invitation to a most enchanting affair. Surrounded by the soft glow of candlelight\, listen to your favorite melodies from Shondaland’s hit series on Netflix\, reimagined by a talented string ensemble. Will you be among society’s most fortunate to attend? Get your tickets today!    General Info   📍 Venue: The Azalea Lodge at Mead Gardens  📅 Dates and times: select your dates/times directly in the ticket selector  ⏳ Duration: 60 minutes. Doors open 45 minutes before the show. No entry once it starts.  👤 Age requirement: 8 years old or older. Anyone under the age of 16 must be accompanied by an adult  ♿ Accessibility: this venue is ADA compliant  ❓ View the FAQs for this event  here   🪑 Seating is assigned on a first come first served basis in each zone  🕯️ If you would like to book a private concert or buy regular tickets for a large group (+30 people)\, click  here   🎻 Check out all the  Candlelight concerts  in Orlando  🎁 To treat your friends and family to a Candlelight gift card\, click  here   👗 Dear guest\, there’s no strict dress code for this special occasion\, but we encourage you to dress in your finest Bridgerton-inspired style!   Program – Top hits from the acclaimed Shondaland series on Netflix    Performers  Listeso String Quartet   April 2  April 23  April 24   Fernwood String Quartet   August 6      Seating Map
URL:https://www.magicquartet.com/concert/candlelight-best-of-bridgerton-on-strings/
LOCATION:Azalea Lodge at Mead Garden\, Orlando\, US
END:VEVENT
BEGIN:VEVENT
DTSTART;TZID=UTC:20260424T190000
DTEND;TZID=UTC:20260424T200000
DTSTAMP:20260420T051917
CREATED:20260407T150238Z
LAST-MODIFIED:20260407T150238Z
UID:3434-1777057200-1777060800@www.magicquartet.com
SUMMARY:Candlelight: Best of Bridgerton on Strings
DESCRIPTION:🌹  After captivating millions of Bridgerton fans worldwide\,    Candlelight: Best of Bridgerton on Strings    is making its grand return to Orlando! Dearest reader\, Lady Whistledown extends an exclusive invitation to a most enchanting affair. Surrounded by the soft glow of candlelight\, listen to your favorite melodies from Shondaland’s hit series on Netflix\, reimagined by a talented string ensemble. Will you be among society’s most fortunate to attend? Get your tickets today!    General Info   📍 Venue: The Azalea Lodge at Mead Gardens  📅 Dates and times: select your dates/times directly in the ticket selector  ⏳ Duration: 60 minutes. Doors open 45 minutes before the show. No entry once it starts.  👤 Age requirement: 8 years old or older. Anyone under the age of 16 must be accompanied by an adult  ♿ Accessibility: this venue is ADA compliant  ❓ View the FAQs for this event  here   🪑 Seating is assigned on a first come first served basis in each zone  🕯️ If you would like to book a private concert or buy regular tickets for a large group (+30 people)\, click  here   🎻 Check out all the  Candlelight concerts  in Orlando  🎁 To treat your friends and family to a Candlelight gift card\, click  here   👗 Dear guest\, there’s no strict dress code for this special occasion\, but we encourage you to dress in your finest Bridgerton-inspired style!   Program – Top hits from the acclaimed Shondaland series on Netflix    Performers  Listeso String Quartet   April 2  April 23  April 24   Fernwood String Quartet   August 6      Seating Map
URL:https://www.magicquartet.com/concert/candlelight-best-of-bridgerton-on-strings-2/
LOCATION:Azalea Lodge at Mead Garden\, Orlando\, US
END:VEVENT
BEGIN:VEVENT
DTSTART;TZID=UTC:20260424T190000
DTEND;TZID=UTC:20260424T200000
DTSTAMP:20260420T051917
CREATED:20260407T150255Z
LAST-MODIFIED:20260407T150255Z
UID:3449-1777057200-1777060800@www.magicquartet.com
SUMMARY:Candlelight: Tribute to José José
DESCRIPTION:⭐   Candlelight  concerts bring the magic of a live\, multi-sensory musical experience to awe-inspiring locations like never seen before in Orlando. Get your tickets now to discover the music of José José (MEX) at Azalea Lodge at Mead Garden under the gentle glow of candlelight.   \n  General Info\n📍 Venue: Azalea Lodge at Mead Garden\n📅 Dates and times: select your dates/times directly in the ticket selector\n⏳ Duration: 60 minutes. Doors open 45 minutes before the show. No entry once it starts.\n👤 Age requirement: 8 years old or older. Anyone under the age of 16 must be accompanied by an adult\n♿ Accessibility: this venue is ADA compliant\n❓ View the FAQs for this event  here\n🪑 Seating is assigned on a first come first served basis in each zone\n🕯️ If you would like to book a private concert or buy regular tickets for a large group (+30 people)\, click  here\n🎻 Check out all the  Candlelight concerts  in Orlando\n🎁 To treat your friends and family to a Candlelight gift card\, click  here   \n  Tentative Program   \n	 Payaso\n	 Lo Que No Fue No Será\n	 Si Me Dejas Ahora\n	 Desesperado\n	 Volcán\n	 40 Y 20\n	 Amar Y Querer\n	 Lo Pasado\, Pasado\n	 Almohada\n	 Preso\n	 Amor\, Amor\n	 Lo Dudo\n	 La Nave Del Olvido\n	 Gavilán o Paloma\n	 El Triste  \n Performers   \n	 Listeso String Quartet  \n  Seating Map   \nEvent Details\n\nVenue: Azalea Lodge at Mead Garden\nCity: Orlando\nShowtimes: 8:45p\nPerformers: Listeso String Quartet\n\nBuy Tickets  |  Get a Quote
URL:https://www.magicquartet.com/concert/candlelight-tribute-to-jose-jose/
LOCATION:Azalea Lodge at Mead Garden\, Orlando\, US
END:VEVENT
BEGIN:VEVENT
DTSTART;TZID=UTC:20260424T190000
DTEND;TZID=UTC:20260424T200000
DTSTAMP:20260420T051917
CREATED:20260407T150256Z
LAST-MODIFIED:20260407T150256Z
UID:3451-1777057200-1777060800@www.magicquartet.com
SUMMARY:Candlelight: Tribute to José José
DESCRIPTION:⭐   Candlelight  concerts bring the magic of a live\, multi-sensory musical experience to awe-inspiring locations like never seen before in Orlando. Get your tickets now to discover the music of José José (MEX) at Azalea Lodge at Mead Garden under the gentle glow of candlelight.   \n  General Info\n📍 Venue: Azalea Lodge at Mead Garden\n📅 Dates and times: select your dates/times directly in the ticket selector\n⏳ Duration: 60 minutes. Doors open 45 minutes before the show. No entry once it starts.\n👤 Age requirement: 8 years old or older. Anyone under the age of 16 must be accompanied by an adult\n♿ Accessibility: this venue is ADA compliant\n❓ View the FAQs for this event  here\n🪑 Seating is assigned on a first come first served basis in each zone\n🕯️ If you would like to book a private concert or buy regular tickets for a large group (+30 people)\, click  here\n🎻 Check out all the  Candlelight concerts  in Orlando\n🎁 To treat your friends and family to a Candlelight gift card\, click  here   \n  Tentative Program   \n	 Payaso\n	 Lo Que No Fue No Será\n	 Si Me Dejas Ahora\n	 Desesperado\n	 Volcán\n	 40 Y 20\n	 Amar Y Querer\n	 Lo Pasado\, Pasado\n	 Almohada\n	 Preso\n	 Amor\, Amor\n	 Lo Dudo\n	 La Nave Del Olvido\n	 Gavilán o Paloma\n	 El Triste  \n Performers   \n	 Listeso String Quartet  \n  Seating Map   \nProgram\n\nPayaso\nLo Que No Fue No Será\nSi Me Dejas Ahora\nDesesperado\nVolcán\n40 Y 20\nAmar Y Querer\nLo Pasado\, Pasado\nAlmohada\nPreso\nAmor\, Amor\nLo Dudo\nLa Nave Del Olvido\nGavilán o Paloma\nEl Triste\n\nEvent Details\n\nVenue: Azalea Lodge at Mead Garden\nCity: Orlando\nShowtimes: 8:45p\nPerformers: Listeso String Quartet\nTickets: From $47.93\n\nBuy Tickets  |  Get a Quote
URL:https://www.magicquartet.com/concert/candlelight-tribute-to-jose-jose-2/
LOCATION:Azalea Lodge at Mead Garden\, Orlando\, US
END:VEVENT
BEGIN:VEVENT
DTSTART;TZID=UTC:20260426T190000
DTEND;TZID=UTC:20260426T200000
DTSTAMP:20260420T051917
CREATED:20260407T150217Z
LAST-MODIFIED:20260407T150217Z
UID:3453-1777230000-1777233600@www.magicquartet.com
SUMMARY:Candlelight: The Best of Joe Hisaishi
DESCRIPTION:⭐   Candlelight  concerts bring the magic of a live\, multi-sensory musical experience to awe-inspiring locations like never seen before in Orlando. Get your tickets now to discover the music of Joe Hisaishi at Orlando Museum of Art under the gentle glow of candlelight.   \n  General Info\n📍 Venue: Orlando Museum of Art\n📅 Dates and times: select your dates/times directly in the ticket selector\n⏳ Duration: 60 minutes. Doors open 45 minutes before the show and  close 5 minutes prior to the start. Late arrivals will not be permitted\n👤 Age requirement: 8 years old or older. Anyone under the age of 16 must be accompanied by an adult\n♿ Accessibility: This venue is ADA compliant\n❓ View the FAQs for this event  here\n🪑 Seating is assigned on a first come first served basis in each zone\n🕯️ If you would like to book a private concert or buy regular tickets for a large group (+30 people)\, click  here\n🎻 Check out all the  Candlelight concerts  in Orlando\n🎁 To treat your friends and family to a Candlelight gift card\, click  here   \n  Tentative Program   \n	  Nausicaa of the Valley of the Wind  – Kaze no Tani\n	  Laputa: Castle in the Sky  – Kimi wo Nosete\n	  My Neighbour Totoro  – Kaze no Toori Michi\n	  My Neighbour Totoro  – Main Theme\n	  Kiki’s Delivery Service  – Umi no Mieru Machi\n	  Princess Mononoke  – Main Theme\n	  Spirited Away  – Inochi no Namae\n	  Spirited Away  – Chihiro’s Waltz\n	  The Tale of Princess Kaguya  – When I Remember This Life\n	  Ponyo  – Gake no Ue no Ponyo\n	  The Wind Rises  – A Journey (A Dream of Flight)\n	  Howl’s Moving Castle  – Merry Go Round of Life  \n Performers   \n	 Listeso String Quartet  \n  Seating Map   \nProgram\n\nNausicaa of the Valley of the Wind\n– Kaze no Tani\nLaputa: Castle in the Sky\n– Kimi wo Nosete\nMy Neighbour Totoro\n– Kaze no Toori Michi\nMy Neighbour Totoro\n– Main Theme\nKiki’s Delivery Service\n– Umi no Mieru Machi\nPrincess Mononoke\n– Main Theme\nSpirited Away\n– Inochi no Namae\nSpirited Away\n– Chihiro’s Waltz\nThe Tale of Princess Kaguya\n– When I Remember This Life\nPonyo\n– Gake no Ue no Ponyo\nThe Wind Rises\n– A Journey (A Dream of Flight)\nHowl’s Moving Castle\n– Merry Go Round of Life\n\nEvent Details\n\nVenue: Orlando Museum of Art\nCity: Orlando\nShowtimes: 5:45p\nPerformers: Listeso String Quartet\nTickets: From $48.46\n\nBuy Tickets  |  Get a Quote
URL:https://www.magicquartet.com/concert/candlelight-the-best-of-joe-hisaishi/
LOCATION:Orlando Museum of Art\, Orlando\, US
END:VEVENT
BEGIN:VEVENT
DTSTART;TZID=UTC:20260430T190000
DTEND;TZID=UTC:20260430T200000
DTSTAMP:20260420T051917
CREATED:20260407T150207Z
LAST-MODIFIED:20260407T150207Z
UID:3455-1777575600-1777579200@www.magicquartet.com
SUMMARY:Candlelight: Queen vs. ABBA
DESCRIPTION:⭐   Candlelight    concerts bring the magic of a live\, multi-sensory musical experience to awe-inspiring locations like never seen before in Orlando. Get your tickets now to discover the music of Queen vs. ABBA at The Azalea Lodge at Mead Gardens under the gentle glow of candlelight.  🌸  To celebrate Candlelight Spring\, a limited number of sessions feature a special floral setting. All other sessions follow the standard Candlelight setup. See the dates below.   General Info  📍 Venue: The Azalea Lodge at Mead Gardens 📅 Dates and times: select your dates/times directly in the ticket selector ⏳ Duration: 60 minutes. Doors open 45 minutes before the show. No entry once it starts. 👤 Age requirement: 8 years old or older. Anyone under the age of 16 must be accompanied by an adult ♿ Accessibility: this venue is ADA compliant ❓ View the FAQs for this event  here  🪑 Seating is assigned on a first come first served basis in each zone 🕯️ If you would like to book a private concert or buy regular tickets for a large group (+30 people)\, click  here  🎻 Check out all the  Candlelight concerts  in Orlando 🎁 To treat your friends and family to a Candlelight gift card\, click  here    Tentative Program    Dancing Queen  SOS  Money\, Money\, Money  Bohemian Rhapsody  I Want to Break Free  Waterloo  Super Trouper  Mamma Mia  Don’t Stop Me Now  We Will Rock You  We Are the Champions   Sessions with Candlelight Spring flower setting:    April 16    Performers  Listeso String Quartet   April 2  April 16  June 4   Fernwood String Quartet   April 30  May 15  June 25     Seating Map      \nEvent Details\n\nVenue: Azalea Lodge at Mead Garden\nCity: Orlando\nShowtimes: 8:45p\nPerformers: Fernwood String Quartet\, March 12\, 2026\, Listeso String Quartet\, April 2\, 2026\, April 16\, 2026\n\nBuy Tickets  |  Get a Quote
URL:https://www.magicquartet.com/concert/candlelight-queen-vs-abba-2/
LOCATION:Azalea Lodge at Mead Garden\, Orlando\, US
END:VEVENT
END:VCALENDAR